BEGIN:VCALENDAR
VERSION:2.0
PRODID:-//Sabre//Sabre VObject 4.5.3//EN
CALSCALE:GREGORIAN
BEGIN:VEVENT
UID:sabre-vobject-fdaa4182-6ea3-40e8-823e-b7295d6b758d
DTSTAMP:20260421T162649Z
SUMMARY:BTR Liverpool Half 2027
DESCRIPTION:2027 marks the 33rd anniversary since the start of what was ori
 ginally known as the Liverpool INTERNATIONAL Half Marathon back in 1994. E
 ntries for the 2025 event sold out over 2 months before race day so be sur
 e get in early to secure your place in Merseyside&#39\;s biggest road race
  event.\n
X-ALT-DESC:FMTTYPE=text/html:<!DOCTYPE HTML PUBLIC "-//W3C//DTD HTML 3.2//E
 N"><HTML><p>2027 marks the 33rd anniversary since the start of what was or
 iginally known as the Liverpool INTERNATIONAL Half Marathon back in 1994. 
 Entries for the 2025 event sold out over 2 months before race day so be su
 re get in early to secure your place in Merseyside&#39\;s biggest road rac
 e event.</p>\n</HTML>
CREATED;TZID=Europe/London:20260414T135117
URL;VALUE=URI:https://www.merseycares.org/support-us/fundraise/register-fun
 draising-event/event-details
DTSTART;TZID=Europe/London:20270314T000000
DTEND;TZID=Europe/London:20270314T235959
SEQUENCE:0
END:VEVENT
END:VCALENDAR
