BEGIN:VCALENDAR
VERSION:2.0
PRODID:-//Sabre//Sabre VObject 4.5.3//EN
CALSCALE:GREGORIAN
BEGIN:VEVENT
UID:sabre-vobject-27ac9f18-2319-41f8-8398-172cbcaee6e7
DTSTAMP:20260421T214343Z
SUMMARY:Liverpool Santa Dash 2026
DESCRIPTION:The Liverpool Santa Dash is an annual 5K fun run which takes pl
 ace around the Liverpool City Centre\, starting at waterfront by the famou
 s Liver Building.\n
X-ALT-DESC:FMTTYPE=text/html:<!DOCTYPE HTML PUBLIC "-//W3C//DTD HTML 3.2//E
 N"><HTML><p>The Liverpool Santa Dash is an annual 5K fun run which takes p
 lace around the Liverpool City Centre\, starting at waterfront by the famo
 us Liver Building.</p>\n</HTML>
CREATED;TZID=Europe/London:20260414T114514
URL;VALUE=URI:https://www.merseycares.org/support-us/fundraise/register-fun
 draising-event/event-details
DTSTART;TZID=Europe/London:20261206T000000
DTEND;TZID=Europe/London:20261206T235959
SEQUENCE:0
END:VEVENT
END:VCALENDAR
