BEGIN:VCALENDAR
VERSION:2.0
PRODID:-//Sabre//Sabre VObject 4.5.3//EN
CALSCALE:GREGORIAN
BEGIN:VEVENT
UID:sabre-vobject-7e716d5a-3682-4283-a868-f94254e0ac9b
DTSTAMP:20260421T225907Z
SUMMARY:Liverpool Women's 10K and 5k 2026
DESCRIPTION:The Women&rsquo\;s 10K &amp\; 5K is a celebration of women comi
 ng together to run\, walk\, and move in a space created entirely with them
  in mind. The event is built around encouragement\, connection\, shared st
 rength and marshalled by women.\n
X-ALT-DESC:FMTTYPE=text/html:<!DOCTYPE HTML PUBLIC "-//W3C//DTD HTML 3.2//E
 N"><HTML><p>The Women&rsquo\;s 10K &amp\; 5K is a celebration of women com
 ing together to run\, walk\, and move in a space created entirely with the
 m in mind. The event is built around encouragement\, connection\, shared s
 trength and marshalled by women.</p>\n</HTML>
CREATED;TZID=Europe/London:20260414T115227
URL;VALUE=URI:https://www.merseycares.org/support-us/fundraise/register-fun
 draising-event/event-details
DTSTART;TZID=Europe/London:20260906T000000
DTEND;TZID=Europe/London:20260906T235959
SEQUENCE:0
END:VEVENT
END:VCALENDAR
