BEGIN:VCALENDAR
VERSION:2.0
PRODID:-//Sabre//Sabre VObject 4.5.3//EN
CALSCALE:GREGORIAN
BEGIN:VEVENT
UID:sabre-vobject-0040ed9a-95a6-422a-913a-56f82f383ba1
DTSTAMP:20260421T225750Z
SUMMARY:Alton Towers 2026 (5k\,10k Half & Juniors)
DESCRIPTION:Join the 5k \,10K\, Half Marathon and kids&rsquo\; race at the 
 UK&#39\;s biggest Theme Park\,&nbsp\;Alton Towers\, on Saturday 14th or Su
 nday 15th November 2026 around the park.\n\nWith FREE ride access after th
 e event included in your entry.\n
X-ALT-DESC:FMTTYPE=text/html:<!DOCTYPE HTML PUBLIC "-//W3C//DTD HTML 3.2//E
 N"><HTML><p>Join the 5k \,10K\, Half Marathon and kids&rsquo\; race at the
  UK&#39\;s biggest Theme Park\,&nbsp\;Alton Towers\, on Saturday 14th or S
 unday 15th November 2026 around the park.</p>\n\n<p><strong>With FREE ride
  access after the event included in your entry.</strong></p>\n</HTML>
CREATED;TZID=Europe/London:20260414T114933
URL;VALUE=URI:https://www.merseycares.org/support-us/fundraise/register-fun
 draising-event/event-details
DTSTART;TZID=Europe/London:20261114T000000
DTEND;TZID=Europe/London:20261114T235959
SEQUENCE:0
END:VEVENT
END:VCALENDAR
