BEGIN:VCALENDAR
VERSION:2.0
PRODID:-//Sabre//Sabre VObject 4.5.3//EN
CALSCALE:GREGORIAN
BEGIN:VEVENT
UID:sabre-vobject-68a7f4a4-060e-4442-a5cb-f6d40c09d686
DTSTAMP:20260421T214827Z
SUMMARY:Run Aintree December 2026 (5k\, 10k\, Half Marathon) 
DESCRIPTION:Join us for a unique opportunity to run a 5k\, 10k or Half Mara
 thon at the world famous Aintree Racecourse\, best known for annually hold
 ing the world-famous Grand National steeplechase.\n
X-ALT-DESC:FMTTYPE=text/html:<!DOCTYPE HTML PUBLIC "-//W3C//DTD HTML 3.2//E
 N"><HTML><p>Join us for a unique opportunity to run a 5k\, 10k or Half Mar
 athon at the world famous Aintree Racecourse\, best known for annually hol
 ding the world-famous Grand National steeplechase.</p>\n</HTML>
CREATED;TZID=Europe/London:20260414T115338
URL;VALUE=URI:https://www.merseycares.org/support-us/fundraise/register-fun
 draising-event/event-details
DTSTART;TZID=Europe/London:20261213T000000
DTEND;TZID=Europe/London:20261213T235959
SEQUENCE:0
END:VEVENT
END:VCALENDAR
