BEGIN:VCALENDAR
VERSION:2.0
PRODID:-//Sabre//Sabre VObject 4.5.3//EN
CALSCALE:GREGORIAN
BEGIN:VEVENT
UID:sabre-vobject-627e0fbc-eb8c-40da-b33a-e254cc78b926
DTSTAMP:20260421T214002Z
SUMMARY:Tough Mudder 2026
DESCRIPTION:The ultimate obstacle course challenge now has 12+ obstacles ov
 er a 5 Kilometre run\, and 20+ obstacles over the 15&nbsp\;Kilometre run.\
 n\nWith no competition and no timing\, it&rsquo\;s just you\, your teammat
 es and muddy strangers working together to conquer the course and earn the
  world-famous orange headband.\n
X-ALT-DESC:FMTTYPE=text/html:<!DOCTYPE HTML PUBLIC "-//W3C//DTD HTML 3.2//E
 N"><HTML><p><strong>The ultimate obstacle course challenge now has 12+ obs
 tacles over a 5 Kilometre run\, and 20+ obstacles over the 15&nbsp\;Kilome
 tre run.</strong></p>\n\n<p>With no competition and no timing\, it&rsquo\;
 s just you\, your teammates and muddy strangers working together to conque
 r the course and earn the world-famous orange headband.</p>\n</HTML>
CREATED;TZID=Europe/London:20260414T114849
URL;VALUE=URI:https://www.merseycares.org/support-us/fundraise/register-fun
 draising-event/event-details
DTSTART;TZID=Europe/London:20261010T000000
DTEND;TZID=Europe/London:20261010T235959
SEQUENCE:0
END:VEVENT
END:VCALENDAR
