BEGIN:VCALENDAR
VERSION:2.0
PRODID:-//Sabre//Sabre VObject 4.5.3//EN
CALSCALE:GREGORIAN
BEGIN:VEVENT
UID:sabre-vobject-0c61e595-3600-46d0-845d-e84d81b1ae41
DTSTAMP:20260421T214047Z
SUMMARY:Inflatable Obstacle Challenge 2.5k\, 5k\, 10k\, 15k
DESCRIPTION:The Inflatable 5k Obstacle Course is coming to Cheshire on Satu
 rday 18th July 2026 and it&#39\;s going to be Epic! The obstacles are BIGG
 ER\, BOUNCIER and BETTER than ever before! You&#39\;ll be jumping\, slidin
 g and laughing all the way to the finish line. Grab your friends\, family 
 or tackle it on your own. Lace up your trainers and get ready for the ulti
 mate day out!\n
X-ALT-DESC:FMTTYPE=text/html:<!DOCTYPE HTML PUBLIC "-//W3C//DTD HTML 3.2//E
 N"><HTML><p>The Inflatable 5k Obstacle Course is coming to Cheshire on Sat
 urday 18th July 2026 and it&#39\;s going to be Epic! The obstacles are BIG
 GER\, BOUNCIER and BETTER than ever before! You&#39\;ll be jumping\, slidi
 ng and laughing all the way to the finish line. Grab your friends\, family
  or tackle it on your own. Lace up your trainers and get ready for the ult
 imate day out!</p>\n</HTML>
CREATED;TZID=Europe/London:20260410T154204
URL;VALUE=URI:https://www.merseycares.org/support-us/fundraise/register-fun
 draising-event/event-details
DTSTART;TZID=Europe/London:20260718T000000
DTEND;TZID=Europe/London:20260718T235959
SEQUENCE:0
END:VEVENT
END:VCALENDAR
