BEGIN:VCALENDAR
VERSION:2.0
PRODID:-//Sabre//Sabre VObject 4.5.3//EN
CALSCALE:GREGORIAN
BEGIN:VEVENT
UID:sabre-vobject-fa60a1b7-a686-4039-b1f4-59647cf91bef
DTSTAMP:20260421T214011Z
SUMMARY:Bungee Jump July 2026 - Tatton Park
DESCRIPTION:The 300ft bungee jump is a special event and happens on selecti
 ve dates throughout the year and is the highest regular jump you will find
  anywhere in the UK. Tatton Park is a fantastic location\, with the jump i
 tself taking place over the vast picturesque lake.&nbsp\;\n\nJuly 11th &am
 p\; 12th 2026\n\n&nbsp\;\n
X-ALT-DESC:FMTTYPE=text/html:<!DOCTYPE HTML PUBLIC "-//W3C//DTD HTML 3.2//E
 N"><HTML><p>The 300ft bungee jump is a special event and happens on select
 ive dates throughout the year and is the highest regular jump you will fin
 d anywhere in the UK. Tatton Park is a fantastic location\, with the jump 
 itself taking place over the vast picturesque lake.&nbsp\;</p>\n\n<p>July 
 11th &amp\; 12th 2026</p>\n\n<p>&nbsp\;</p>\n</HTML>
CREATED;TZID=Europe/London:20260415T103611
URL;VALUE=URI:https://www.merseycares.org/support-us/fundraise/register-fun
 draising-event/event-details
DTSTART;TZID=Europe/London:20260711T000000
DTEND;TZID=Europe/London:20260711T235959
SEQUENCE:0
END:VEVENT
END:VCALENDAR
