BEGIN:VCALENDAR
VERSION:2.0
PRODID:-//Sabre//Sabre VObject 4.5.3//EN
CALSCALE:GREGORIAN
BEGIN:VEVENT
UID:sabre-vobject-8fcb23cc-1e20-4c12-8bd0-5800e101ed5c
DTSTAMP:20260421T230128Z
SUMMARY:Bungee Jump October 2026 - Tatton Park 
DESCRIPTION:The 300ft bungee jump is a special event and happens on selecti
 ve dates throughout the year and is the highest regular jump you will find
  anywhere in the UK. Tatton Park is a fantastic location\, with the jump i
 tself taking place over the vast picturesque lake.&nbsp\;\n\nOctober 3rd &
 amp\; 4th 2026\n
X-ALT-DESC:FMTTYPE=text/html:<!DOCTYPE HTML PUBLIC "-//W3C//DTD HTML 3.2//E
 N"><HTML><p>The 300ft bungee jump is a special event and happens on select
 ive dates throughout the year and is the highest regular jump you will fin
 d anywhere in the UK. Tatton Park is a fantastic location\, with the jump 
 itself taking place over the vast picturesque lake.&nbsp\;</p>\n\n<p>Octob
 er 3rd &amp\; 4th 2026</p>\n</HTML>
CREATED;TZID=Europe/London:20260415T103540
URL;VALUE=URI:https://www.merseycares.org/support-us/fundraise/register-fun
 draising-event/event-details
DTSTART;TZID=Europe/London:20261003T000000
DTEND;TZID=Europe/London:20261003T235959
SEQUENCE:0
END:VEVENT
END:VCALENDAR
